BEGIN:VCALENDAR
VERSION:2.0
PRODID:-//Bowling Green Baptist Church - ECPv6.11.2//NONSGML v1.0//EN
CALSCALE:GREGORIAN
METHOD:PUBLISH
X-ORIGINAL-URL:https://bgbcva.org
X-WR-CALDESC:Events for Bowling Green Baptist Church
REFRESH-INTERVAL;VALUE=DURATION:PT1H
X-Robots-Tag:noindex
X-PUBLISHED-TTL:PT1H
BEGIN:VTIMEZONE
TZID:America/New_York
BEGIN:DAYLIGHT
TZOFFSETFROM:-0500
TZOFFSETTO:-0400
TZNAME:EDT
DTSTART:20260308T070000
END:DAYLIGHT
BEGIN:STANDARD
TZOFFSETFROM:-0400
TZOFFSETTO:-0500
TZNAME:EST
DTSTART:20261101T060000
END:STANDARD
END:VTIMEZONE
BEGIN:VEVENT
DTSTART;TZID=America/New_York:20260205T150000
DTEND;TZID=America/New_York:20260205T173000
DTSTAMP:20260420T165247
CREATED:20251028T144257Z
LAST-MODIFIED:20251028T144258Z
UID:10000885-1770303600-1770312600@bgbcva.org
SUMMARY:Kingdom 20 Homeschool
DESCRIPTION:
URL:https://bgbcva.org/event/kingdom-20-homeschool-2/2026-02-05/
LOCATION:Bowling Green Baptist Church
END:VEVENT
BEGIN:VEVENT
DTSTART;TZID=America/New_York:20260205T180000
DTEND;TZID=America/New_York:20260205T200000
DTSTAMP:20260420T165247
CREATED:20251119T143726Z
LAST-MODIFIED:20251119T143726Z
UID:10002460-1770314400-1770321600@bgbcva.org
SUMMARY:Youth Night
DESCRIPTION:
URL:https://bgbcva.org/event/youth-night/2026-02-05/
LOCATION:Bowling Green Baptist Church
END:VEVENT
END:VCALENDAR