BEGIN:VCALENDAR
VERSION:2.0
PRODID:-//Bowling Green Baptist Church - ECPv6.11.2//NONSGML v1.0//EN
CALSCALE:GREGORIAN
METHOD:PUBLISH
X-WR-CALNAME:Bowling Green Baptist Church
X-ORIGINAL-URL:https://bgbcva.org
X-WR-CALDESC:Events for Bowling Green Baptist Church
REFRESH-INTERVAL;VALUE=DURATION:PT1H
X-Robots-Tag:noindex
X-PUBLISHED-TTL:PT1H
BEGIN:VTIMEZONE
TZID:America/New_York
BEGIN:DAYLIGHT
TZOFFSETFROM:-0500
TZOFFSETTO:-0400
TZNAME:EDT
DTSTART:20250309T070000
END:DAYLIGHT
BEGIN:STANDARD
TZOFFSETFROM:-0400
TZOFFSETTO:-0500
TZNAME:EST
DTSTART:20251102T060000
END:STANDARD
END:VTIMEZONE
BEGIN:VEVENT
DTSTART;TZID=America/New_York:20251204T080000
DTEND;TZID=America/New_York:20251204T170000
DTSTAMP:20260420T121418
CREATED:20251020T163417Z
LAST-MODIFIED:20251020T163417Z
UID:10002355-1764835200-1764867600@bgbcva.org
SUMMARY:FMC  Reserved
DESCRIPTION:
URL:https://bgbcva.org/event/fmc-reserved-5/2025-12-04/
LOCATION:Bowling Green Baptist Church
END:VEVENT
BEGIN:VEVENT
DTSTART;TZID=America/New_York:20251204T150000
DTEND;TZID=America/New_York:20251204T173000
DTSTAMP:20260420T121418
CREATED:20251028T144257Z
LAST-MODIFIED:20251028T144258Z
UID:10000876-1764860400-1764869400@bgbcva.org
SUMMARY:Kingdom 20 Homeschool
DESCRIPTION:
URL:https://bgbcva.org/event/kingdom-20-homeschool-2/2025-12-04/
LOCATION:Bowling Green Baptist Church
END:VEVENT
END:VCALENDAR