BEGIN:VCALENDAR
VERSION:2.0
PRODID:-//Bowling Green Baptist Church - ECPv6.11.2//NONSGML v1.0//EN
CALSCALE:GREGORIAN
METHOD:PUBLISH
X-ORIGINAL-URL:https://bgbcva.org
X-WR-CALDESC:Events for Bowling Green Baptist Church
REFRESH-INTERVAL;VALUE=DURATION:PT1H
X-Robots-Tag:noindex
X-PUBLISHED-TTL:PT1H
BEGIN:VTIMEZONE
TZID:America/New_York
BEGIN:DAYLIGHT
TZOFFSETFROM:-0500
TZOFFSETTO:-0400
TZNAME:EDT
DTSTART:20250309T070000
END:DAYLIGHT
BEGIN:STANDARD
TZOFFSETFROM:-0400
TZOFFSETTO:-0500
TZNAME:EST
DTSTART:20251102T060000
END:STANDARD
END:VTIMEZONE
BEGIN:VEVENT
DTSTART;VALUE=DATE:20251123
DTEND;VALUE=DATE:20251124
DTSTAMP:20260420T121643
CREATED:20251119T142727Z
LAST-MODIFIED:20251119T142727Z
UID:10002452-1763856000-1763942399@bgbcva.org
SUMMARY:Angel Tree
DESCRIPTION:
URL:https://bgbcva.org/event/angel-tree/
LOCATION:Bowling Green Baptist Church
END:VEVENT
BEGIN:VEVENT
DTSTART;TZID=America/New_York:20251123T100000
DTEND;TZID=America/New_York:20251123T110000
DTSTAMP:20260420T121643
CREATED:20250918T144946Z
LAST-MODIFIED:20250918T144946Z
UID:10002269-1763892000-1763895600@bgbcva.org
SUMMARY:Hanging of the Greens Worship Service
DESCRIPTION:
URL:https://bgbcva.org/event/hanging-of-the-greens-worship-service/
LOCATION:Bowling Green Baptist Church
END:VEVENT
BEGIN:VEVENT
DTSTART;TZID=America/New_York:20251123T113000
DTEND;TZID=America/New_York:20251123T140000
DTSTAMP:20260420T121643
CREATED:20250918T145023Z
LAST-MODIFIED:20250918T145023Z
UID:10002270-1763897400-1763906400@bgbcva.org
SUMMARY:Thanksgiving Feast
DESCRIPTION:
URL:https://bgbcva.org/event/thanksgiving-feast/
LOCATION:Bowling Green Baptist Church
END:VEVENT
END:VCALENDAR