BEGIN:VCALENDAR
VERSION:2.0
PRODID:-//Bowling Green Baptist Church - ECPv6.11.2//NONSGML v1.0//EN
CALSCALE:GREGORIAN
METHOD:PUBLISH
X-WR-CALNAME:Bowling Green Baptist Church
X-ORIGINAL-URL:https://bgbcva.org
X-WR-CALDESC:Events for Bowling Green Baptist Church
REFRESH-INTERVAL;VALUE=DURATION:PT1H
X-Robots-Tag:noindex
X-PUBLISHED-TTL:PT1H
BEGIN:VTIMEZONE
TZID:America/New_York
BEGIN:DAYLIGHT
TZOFFSETFROM:-0500
TZOFFSETTO:-0400
TZNAME:EDT
DTSTART:20250309T070000
END:DAYLIGHT
BEGIN:STANDARD
TZOFFSETFROM:-0400
TZOFFSETTO:-0500
TZNAME:EST
DTSTART:20251102T060000
END:STANDARD
END:VTIMEZONE
BEGIN:VEVENT
DTSTART;TZID=America/New_York:20251120T080000
DTEND;TZID=America/New_York:20251120T170000
DTSTAMP:20260420T121458
CREATED:20251020T163131Z
LAST-MODIFIED:20251020T163143Z
UID:10002350-1763625600-1763658000@bgbcva.org
SUMMARY:FMC Reserved by Beginnings
DESCRIPTION:
URL:https://bgbcva.org/event/fmc-reserved-by-beginnings/
LOCATION:Bowling Green Baptist Church
END:VEVENT
BEGIN:VEVENT
DTSTART;TZID=America/New_York:20251120T100000
DTEND;TZID=America/New_York:20251120T110000
DTSTAMP:20260420T121458
CREATED:20250403T132733Z
LAST-MODIFIED:20250403T132733Z
UID:10000469-1763632800-1763636400@bgbcva.org
SUMMARY:Food Bank
DESCRIPTION:
URL:https://bgbcva.org/event/food-bank/2025-11-20/
LOCATION:Bowling Green Baptist Church
CATEGORIES:Community
END:VEVENT
BEGIN:VEVENT
DTSTART;TZID=America/New_York:20251120T150000
DTEND;TZID=America/New_York:20251120T173000
DTSTAMP:20260420T121458
CREATED:20251028T144257Z
LAST-MODIFIED:20251028T144258Z
UID:10000874-1763650800-1763659800@bgbcva.org
SUMMARY:Kingdom 20 Homeschool
DESCRIPTION:
URL:https://bgbcva.org/event/kingdom-20-homeschool-2/2025-11-20/
LOCATION:Bowling Green Baptist Church
END:VEVENT
END:VCALENDAR