BEGIN:VCALENDAR
VERSION:2.0
PRODID:-//Bowling Green Baptist Church - ECPv6.11.2//NONSGML v1.0//EN
CALSCALE:GREGORIAN
METHOD:PUBLISH
X-WR-CALNAME:Bowling Green Baptist Church
X-ORIGINAL-URL:https://bgbcva.org
X-WR-CALDESC:Events for Bowling Green Baptist Church
REFRESH-INTERVAL;VALUE=DURATION:PT1H
X-Robots-Tag:noindex
X-PUBLISHED-TTL:PT1H
BEGIN:VTIMEZONE
TZID:America/New_York
BEGIN:DAYLIGHT
TZOFFSETFROM:-0500
TZOFFSETTO:-0400
TZNAME:EDT
DTSTART:20250309T070000
END:DAYLIGHT
BEGIN:STANDARD
TZOFFSETFROM:-0400
TZOFFSETTO:-0500
TZNAME:EST
DTSTART:20251102T060000
END:STANDARD
END:VTIMEZONE
BEGIN:VEVENT
DTSTART;TZID=America/New_York:20250918T100000
DTEND;TZID=America/New_York:20250918T110000
DTSTAMP:20260420T091453
CREATED:20250403T132733Z
LAST-MODIFIED:20250403T132733Z
UID:10000467-1758189600-1758193200@bgbcva.org
SUMMARY:Food Bank
DESCRIPTION:
URL:https://bgbcva.org/event/food-bank/2025-09-18/
LOCATION:Bowling Green Baptist Church
CATEGORIES:Community
END:VEVENT
BEGIN:VEVENT
DTSTART;TZID=America/New_York:20250918T100000
DTEND;TZID=America/New_York:20250918T110000
DTSTAMP:20260420T091453
CREATED:20250828T150511Z
LAST-MODIFIED:20250828T150515Z
UID:10000989-1758189600-1758193200@bgbcva.org
SUMMARY:Rappahannock Regional Food Bank
DESCRIPTION:
URL:https://bgbcva.org/event/rappahannock-regional-food-bank/
LOCATION:Bowling Green Baptist Church
END:VEVENT
BEGIN:VEVENT
DTSTART;TZID=America/New_York:20250918T150000
DTEND;TZID=America/New_York:20250918T173000
DTSTAMP:20260420T091453
CREATED:20250828T145507Z
LAST-MODIFIED:20250828T145605Z
UID:10000865-1758207600-1758216600@bgbcva.org
SUMMARY:Kingdom 20 Homeschool
DESCRIPTION:
URL:https://bgbcva.org/event/kingdom-20-homeschool/2025-09-18/
LOCATION:Bowling Green Baptist Church
END:VEVENT
END:VCALENDAR