BEGIN:VCALENDAR
VERSION:2.0
PRODID:-//Bowling Green Baptist Church - ECPv6.11.2//NONSGML v1.0//EN
CALSCALE:GREGORIAN
METHOD:PUBLISH
X-WR-CALNAME:Bowling Green Baptist Church
X-ORIGINAL-URL:https://bgbcva.org
X-WR-CALDESC:Events for Bowling Green Baptist Church
REFRESH-INTERVAL;VALUE=DURATION:PT1H
X-Robots-Tag:noindex
X-PUBLISHED-TTL:PT1H
BEGIN:VTIMEZONE
TZID:America/New_York
BEGIN:DAYLIGHT
TZOFFSETFROM:-0500
TZOFFSETTO:-0400
TZNAME:EDT
DTSTART:20250309T070000
END:DAYLIGHT
BEGIN:STANDARD
TZOFFSETFROM:-0400
TZOFFSETTO:-0500
TZNAME:EST
DTSTART:20251102T060000
END:STANDARD
END:VTIMEZONE
BEGIN:VEVENT
DTSTART;TZID=America/New_York:20250911T150000
DTEND;TZID=America/New_York:20250911T173000
DTSTAMP:20260420T091452
CREATED:20250828T145507Z
LAST-MODIFIED:20250828T145605Z
UID:10000864-1757602800-1757611800@bgbcva.org
SUMMARY:Kingdom 20 Homeschool
DESCRIPTION:
URL:https://bgbcva.org/event/kingdom-20-homeschool/2025-09-11/
LOCATION:Bowling Green Baptist Church
END:VEVENT
BEGIN:VEVENT
DTSTART;TZID=America/New_York:20250911T180000
DTEND;TZID=America/New_York:20250911T190000
DTSTAMP:20260420T091452
CREATED:20250828T144533Z
LAST-MODIFIED:20250828T144545Z
UID:10000860-1757613600-1757617200@bgbcva.org
SUMMARY:Deacons
DESCRIPTION:
URL:https://bgbcva.org/event/deacons/
LOCATION:Bowling Green Baptist Church
END:VEVENT
END:VCALENDAR