BEGIN:VCALENDAR
VERSION:2.0
PRODID:-//Bowling Green Baptist Church - ECPv6.11.2//NONSGML v1.0//EN
CALSCALE:GREGORIAN
METHOD:PUBLISH
X-WR-CALNAME:Bowling Green Baptist Church
X-ORIGINAL-URL:https://bgbcva.org
X-WR-CALDESC:Events for Bowling Green Baptist Church
REFRESH-INTERVAL;VALUE=DURATION:PT1H
X-Robots-Tag:noindex
X-PUBLISHED-TTL:PT1H
BEGIN:VTIMEZONE
TZID:America/New_York
BEGIN:DAYLIGHT
TZOFFSETFROM:-0500
TZOFFSETTO:-0400
TZNAME:EDT
DTSTART:20250309T070000
END:DAYLIGHT
BEGIN:STANDARD
TZOFFSETFROM:-0400
TZOFFSETTO:-0500
TZNAME:EST
DTSTART:20251102T060000
END:STANDARD
END:VTIMEZONE
BEGIN:VEVENT
DTSTART;TZID=America/New_York:20250624T080000
DTEND;TZID=America/New_York:20250624T170000
DTSTAMP:20260420T045213
CREATED:20250527T175815Z
LAST-MODIFIED:20250527T175815Z
UID:10000811-1750752000-1750784400@bgbcva.org
SUMMARY:Bloodmobile
DESCRIPTION:
URL:https://bgbcva.org/event/bloodmobile/
LOCATION:Bowling Green Baptist Church
END:VEVENT
BEGIN:VEVENT
DTSTART;TZID=America/New_York:20250624T173000
DTEND;TZID=America/New_York:20250624T200000
DTSTAMP:20260420T045213
CREATED:20250522T140614Z
LAST-MODIFIED:20250522T140614Z
UID:10000802-1750786200-1750795200@bgbcva.org
SUMMARY:Vacation Bible School
DESCRIPTION:
URL:https://bgbcva.org/event/vacation-bible-school/2025-06-24/
LOCATION:Bowling Green Baptist Church
END:VEVENT
END:VCALENDAR